BEGIN:VCALENDAR
VERSION:2.0
BEGIN:VEVENT
CLASS:PUBLIC
CATEGORIES:MEETING
DTSTART;TZID=America/Chicago:20240721T140000
DTEND;TZID=America/Chicago:20240721T140000
SUMMARY:Michael Charles at The Dirty Hoe Saloon
DESCRIPTION:Age Limit: All Ages\n\nDetails: Join us for a 40th Anniversary Tour concert by Chicago Blues Hall of Fame, Australian born muso Michael Charles and His Band as they take you through forty years and forty releases of music. The four hour non-stop concert overflows with precise, energetic, intense, original, and guitar driven contemporary blues, blues-based rock, and the soulful ballads of Michael Charles.
LOCATION:The Dirty Hoe Saloon - 4614 Sheard Road, Kansasville, WI, 53139, US
END:VEVENT

END:VCALENDAR
