BEGIN:VCALENDAR
VERSION:2.0
BEGIN:VEVENT
CLASS:PUBLIC
CATEGORIES:MEETING
DTSTART;TZID=America/Chicago:20241018T183000
DTEND;TZID=America/Chicago:20241018T183000
SUMMARY:Michael Charles at The Grove Pub
DESCRIPTION:Age Limit: All Ages\n\nDetails: Join us for a 40th Anniversary Tour acoustic concert by Chicago Blues Hall of Fame, Australian born muso Michael Charles as he takes you through forty years and forty releases of music. The three hour non-stop concert overflows with precise, energetic, intense, original, and guitar driven contemporary blues, blues-based rock, and soulful the ballads of Michael Charles.
LOCATION:The Grove Pub - 2008 Main Street, Spring Grove, IL, 60081, US
END:VEVENT

END:VCALENDAR
