BEGIN:VCALENDAR
VERSION:2.0
BEGIN:VEVENT
CLASS:PUBLIC
CATEGORIES:MEETING
DTSTART;TZID=America/Chicago:20240920T183000
DTEND;TZID=America/Chicago:20240920T183000
SUMMARY:Michael Charles at Sunset Grill
DESCRIPTION:Age Limit: All Ages\n\nDetails: Join us for a 40th Anniversary Tour acoustic concert by Chicago Blues Hall of Fame, Australian born muso Michael Charles as he takes you through forty years and forty releases of music. The three hour non-stop concert overflows with precise, energetic, intense, original, and guitar driven contemporary blues, blues-based rock, and soulful the ballads of Michael Charles.
LOCATION:Sunset Grill - 25276 West Grass Lake Road, Antioch, IL, 60002, US
END:VEVENT

END:VCALENDAR
