BEGIN:VCALENDAR
VERSION:2.0
BEGIN:VEVENT
CLASS:PUBLIC
CATEGORIES:MEETING
DTSTART:20240622T130000Z
DTEND:20240622T130000Z
SUMMARY:Sillken at Burnaby Farmers Market
DESCRIPTION:Age Limit: All Ages
LOCATION:Burnaby Farmers Market - Burnaby, Burnaby, BC, CA
END:VEVENT

END:VCALENDAR
