BEGIN:VCALENDAR
VERSION:2.0
BEGIN:VEVENT
CLASS:PUBLIC
CATEGORIES:MEETING
DTSTART:20240717T160000Z
DTEND:20240717T160000Z
SUMMARY:Sillken at Willingdon Care Home
DESCRIPTION:Age Limit: All Ages
LOCATION:Willingdon Care Home - 4435 Grange St., Burnaby, BC, CA
END:VEVENT

END:VCALENDAR
