BEGIN:VCALENDAR
VERSION:2.0
BEGIN:VEVENT
CLASS:PUBLIC
CATEGORIES:MEETING
DTSTART:20240724T180000Z
DTEND:20240724T180000Z
SUMMARY:Sillken at Vancouver Art Gallery Market Venue
DESCRIPTION:Age Limit: All Ages
LOCATION:Vancouver Art Gallery Market Venue - Vancouver, Vancouver, BC, CA
END:VEVENT

END:VCALENDAR
