BEGIN:VCALENDAR
VERSION:2.0
BEGIN:VEVENT
CLASS:PUBLIC
CATEGORIES:MEETING
DTSTART:20240720T160000Z
DTEND:20240720T160000Z
SUMMARY:Sillken at Riley Park Farmers Market
DESCRIPTION:Age Limit: All Ages
LOCATION:Riley Park Farmers Market - Vancouver, Vancouver, BC, CA
END:VEVENT

END:VCALENDAR
