BEGIN:VCALENDAR
VERSION:2.0
BEGIN:VEVENT
CLASS:PUBLIC
CATEGORIES:MEETING
DTSTART:20240703T200000Z
DTEND:20240703T200000Z
SUMMARY:Sillken at Hastings Park Farmers Market
DESCRIPTION:Age Limit: All Ages
LOCATION:Hastings Park Farmers Market - Burnaby, Burnaby, BC, CA
END:VEVENT

END:VCALENDAR
