BEGIN:VCALENDAR
VERSION:2.0
BEGIN:VEVENT
CLASS:PUBLIC
CATEGORIES:MEETING
DTSTART:20240623T160000Z
DTEND:20240623T160000Z
SUMMARY:Sillken at Ambleside Farmers Market
DESCRIPTION:Age Limit: All Ages
LOCATION:Ambleside Farmers Market - West Vancouver, West Vancouver, BC, CA
END:VEVENT

END:VCALENDAR
