BEGIN:VCALENDAR
VERSION:2.0
BEGIN:VEVENT
CLASS:PUBLIC
CATEGORIES:MEETING
DTSTART:20240526T140000Z
DTEND:20240526T140000Z
SUMMARY:Sillken at Mount Pleasant Farmers Market
DESCRIPTION:Age Limit: All Ages
LOCATION:Mount Pleasant Farmers Market - Vancouver, Vancouver, BC, CA
END:VEVENT

END:VCALENDAR
