BEGIN:VCALENDAR
VERSION:2.0
BEGIN:VEVENT
CLASS:PUBLIC
CATEGORIES:MEETING
DTSTART;TZID=America/New_York:20240824T170000
DTEND;TZID=America/New_York:20240824T170000
SUMMARY:Unknown Tongues Cajun Zydeco at Wild Caught Local Seafood and Music Festival
DESCRIPTION:Price: free\nAge Limit: All Ages\n\nDetails: Accidental Productions presents the 12th Annual Wild Caught Local Seafood and Music Festival August 23 – 24. Wild Caught will take place at the Gloucester Community Center, 476 Pigott Road, Gloucester 28528. Wild Caught is the “smallest and localest” seafood festival, celebrating local food live music, and the maritime heritage of Down East.\n\nMusic starts 6:30pm Friday. Live Bands will play all day Saturday into the evening, including special guests Siempre Puente from Argentina and festival hosts Unknown Tongues Cajun Zydeco band.\n\nSaturday afternoon local seafood will be cooked and served, including charcoal mullet, shrimp, clams, and fixings.\n\nNO PETS please! Please bring a chair, your own shade, bug spray, and something to drink.\n\nThis event is FREE, made possible by your donations and sponsorships. Please call 252-729-8021 about sponsorships or send donations (checks made out to Accidental Productions) to P.O. Box 91, Gloucester, NC 28528. For more information on Wild Caught see: http://unknowntongues.com/wildcaught.htm 
LOCATION:Wild Caught Local Seafood and Music Festival - 476 Pigott Rd, Gloucester, NC, 28528, US
END:VEVENT

END:VCALENDAR
