BEGIN:VCALENDAR
VERSION:2.0
BEGIN:VEVENT
CLASS:PUBLIC
CATEGORIES:MEETING
DTSTART;TZID=America/Chicago:20241109T190000
DTEND;TZID=America/Chicago:20241109T190000
SUMMARY:Michael Charles at 2 Brothers Bar & Grill
DESCRIPTION:Age Limit: All Ages\n\nDetails: \nJoin us for a 40th Anniversary Tour concert by Chicago Blues Hall of Fame, Australian born muso Michael Charles and His Band as they take you through forty years and forty releases of music. The three hour non-stop concert overflows with precise, energetic, intense, original, and guitar driven contemporary blues, blues-based rock, and the soulful ballads of Michael Charles.\n
LOCATION:2 Brothers Bar & Grill - N1161 Clover Road, Genoa City, WI, 53128, US
END:VEVENT

END:VCALENDAR
