BEGIN:VCALENDAR
VERSION:2.0
BEGIN:VEVENT
CLASS:PUBLIC
CATEGORIES:MEETING
DTSTART;TZID=America/Indiana/Indianapolis:20241012T190000
DTEND;TZID=America/Indiana/Indianapolis:20241012T190000
SUMMARY:Michael Charles at Wild Rose Moon
DESCRIPTION:Click here to buy tickets: https://www.eventbrite.com/e/michael-charles-blues-band-radio-show-and-concert-tickets-964663834497?aff=oddtdtcreator\nAge Limit: All Ages\n\nDetails: Come join us for a 40th Anniversary Tour concert by Chicago Blues Hall of Fame, Australian born muso Michael Charles and His Band at this live radio and television taping as they take you through forty years and forty releases of music. The concert overflows with precise, energetic, intense, original, and guitar driven contemporary blues, blues-based rock, and the soulful ballads of Michael Charles and the variety show is just super great fun!!.
LOCATION:Wild Rose Moon - 115 North Michigan Street, Plymouth, IN, 46563, US
END:VEVENT

END:VCALENDAR
