BEGIN:VCALENDAR
VERSION:2.0
BEGIN:VEVENT
CLASS:PUBLIC
CATEGORIES:MEETING
DTSTART;TZID=America/Detroit:20240824T190000
DTEND;TZID=America/Detroit:20240824T190000
SUMMARY:Michael Charles at Watermark Brewing Company
DESCRIPTION:Age Limit: All Ages\n\nDetails: Join us for a 40th Anniversary Tour concert by Chicago Blues Hall of Fame, Australian born muso Michael Charles and His Band as they take you through forty years and forty releases of music. The three hour non-stop concert overflows with precise, energetic, intense, original, and guitar driven contemporary blues, blues-based rock, and soulful the ballads of Michael Charles.
LOCATION:Watermark Brewing Company - 5781 Saint Joseph Avenue, Stevensville, MI, 49127, US
END:VEVENT

END:VCALENDAR
