BEGIN:VCALENDAR
VERSION:2.0
BEGIN:VEVENT
CLASS:PUBLIC
CATEGORIES:MEETING
DTSTART;TZID=America/Chicago:20240817T190000
DTEND;TZID=America/Chicago:20240817T190000
SUMMARY:Michael Charles at Kasey's Banquet Hall, Restaurant & Lounge
DESCRIPTION:Age Limit: All Ages\n\nDetails: Join us in the beer garden for a 40th Anniversary Tour concert by Chicago Blues Hall of Fame, Australian born muso Michael Charles and His Band as they take you through forty years and forty releases of music. The three hour non-stop concert overflows with precise, energetic, intense, original, and guitar driven contemporary blues, blues-based rock, and soulful the ballads of Michael Charles.
LOCATION:Kasey's Banquet Hall, Restaurant & Lounge - 17800 Lorenz Avenue, Lansing, IL, 60438, US
END:VEVENT

END:VCALENDAR
