BEGIN:VCALENDAR
VERSION:2.0
BEGIN:VEVENT
CLASS:PUBLIC
CATEGORIES:MEETING
DTSTART;TZID=America/Chicago:20240808T180000
DTEND;TZID=America/Chicago:20240808T180000
SUMMARY:Michael Charles at Wildwood Summer Concert Series
DESCRIPTION:Age Limit: All Ages\n\nDetails: Join us for a 40th Anniversary Tour concert by Chicago Blues Hall of Fame, Australian born muso Michael Charles and His Band as they take you through forty years and forty releases of music. The non-stop concert overflows with precise, energetic, intense, original, and guitar driven contemporary blues, blues-based rock, and soulful the ballads of Michael Charles.
LOCATION:Wildwood Summer Concert Series - Willow Point Park 33666 North Cove Road, Wildwood, IL, 60030, US
END:VEVENT

END:VCALENDAR
