BEGIN:VCALENDAR
VERSION:2.0
BEGIN:VEVENT
CLASS:PUBLIC
CATEGORIES:MEETING
DTSTART;TZID=America/Chicago:20240713T190000
DTEND;TZID=America/Chicago:20240713T190000
SUMMARY:Michael Charles at Whiskey Stop
DESCRIPTION:Age Limit: 21+\n\nDetails: Join us for a 40th Anniversary Tour concert by Chicago Blues Hall of Fame, Australian born muso Michael Charles and His Band as they take you through forty years and forty releases of music. The three hour non-stop concert overflows with precise, energetic, intense, original, and guitar driven contemporary blues, blues-based rock, and soulful the ballads of Michael Charles.
LOCATION:Whiskey Stop - 726 15th Avenue, East Moline, IL, 61244, US
END:VEVENT

END:VCALENDAR
