BEGIN:VCALENDAR
VERSION:2.0
BEGIN:VEVENT
CLASS:PUBLIC
CATEGORIES:MEETING
DTSTART;TZID=America/New_York:20240607T180000
DTEND;TZID=America/New_York:20240607T180000
SUMMARY:Lisa Martin at Irish Cultural Center
DESCRIPTION:Age Limit: All Ages\n\nDetails: Our debut at this lovely location! Great food and ambiance. Acoustic duo tonight! Jeff Bolow joins me on bass and backing vocals. Music til 9pm
LOCATION:Irish Cultural Center - 429 Morgan Rd, West Springfield, MA, 01089, US
END:VEVENT

END:VCALENDAR
