BEGIN:VCALENDAR
VERSION:2.0
BEGIN:VEVENT
CLASS:PUBLIC
CATEGORIES:MEETING
DTSTART;TZID=America/New_York:20240224T190000
DTEND;TZID=America/New_York:20240224T190000
SUMMARY:PR1 Promotions / DJ Tiburon at Salty Jim's
DESCRIPTION:Price: Free \nAge Limit: All Ages\n\nDetails: DJ Tiburon will be spinnig the sounds. We also have a 7:00 pm pool tournament that only costs $10. Let vibe.#anotherPR1PromotionsExperience
LOCATION:Salty Jim's - 3655 Webber Street, Sarasota, FL, 34232, US
END:VEVENT

END:VCALENDAR
