BEGIN:VCALENDAR
VERSION:2.0
BEGIN:VEVENT
CLASS:PUBLIC
CATEGORIES:MEETING
DTSTART;TZID=Europe/Berlin:20240608T090000
DTEND;TZID=Europe/Berlin:20240608T090000
SUMMARY:Rod Fritz at Rosenfest Biberach
DESCRIPTION:Age Limit: All Ages\n\nDetails: Rod Fritz, live at Rosenfest Biberach 08 June, 2024
LOCATION:Rosenfest Biberach - Weberberg, Biberach An Der Riss, 88400, DE
END:VEVENT

END:VCALENDAR
