BEGIN:VCALENDAR
VERSION:2.0
BEGIN:VEVENT
CLASS:PUBLIC
CATEGORIES:MEETING
DTSTART;TZID=Europe/Berlin:20240216T200000
DTEND;TZID=Europe/Berlin:20240216T200000
SUMMARY:Rod Fritz at Murphy's Law Ulm
DESCRIPTION:Price: N/A\nAge Limit: All Ages\n\nDetails: Rod Fritz live at Murphy&#39;s Law Ulm
LOCATION:Murphy's Law Ulm - Keltergasse 3,, Ulm, DE
END:VEVENT

END:VCALENDAR
