BEGIN:VCALENDAR
VERSION:2.0
BEGIN:VEVENT
CLASS:PUBLIC
CATEGORIES:MEETING
DTSTART;TZID=America/New_York:20240530T180000
DTEND;TZID=America/New_York:20240530T180000
SUMMARY:Lisa Martin at Pizzeria Unos
DESCRIPTION:Age Limit: All Ages\n\nDetails: Summer music series! Full band show. Music til 9pm
LOCATION:Pizzeria Unos - 820 Hall of Fame Ave, Springfield, MA, 01105, US
END:VEVENT

END:VCALENDAR
