BEGIN:VCALENDAR
VERSION:2.0
BEGIN:VEVENT
CLASS:PUBLIC
CATEGORIES:MEETING
DTSTART;TZID=America/Denver:20240210T170000
DTEND;TZID=America/Denver:20240210T170000
SUMMARY:The David Wheeler Show at Upper Crust Pizza, Eldorado
DESCRIPTION:Price: no cover\nAge Limit: All Ages\n\nDetails: Pizza, beer, and my original songs in a live solo concert 5-8 pm
LOCATION:Upper Crust Pizza, Eldorado - 5 Colina Drive, Santa Fe, NM, 87505, US
END:VEVENT

END:VCALENDAR
