BEGIN:VCALENDAR
VERSION:2.0
BEGIN:VEVENT
CLASS:PUBLIC
CATEGORIES:MEETING
DTSTART;TZID=America/New_York:20240810T200000
DTEND;TZID=America/New_York:20240810T200000
SUMMARY:Bob Niederriter at Springfield Jazz and Blues Festival 
DESCRIPTION:Age Limit: All Ages\n\nDetails: Trio performance on the Mother Stewart&#39;s Stage . Details TBA ........
LOCATION:Springfield Jazz and Blues Festival  - Down Town Springfield, Springfield, OH, US
END:VEVENT

END:VCALENDAR
