BEGIN:VCALENDAR
VERSION:2.0
BEGIN:VEVENT
CLASS:PUBLIC
CATEGORIES:MEETING
DTSTART;TZID=America/New_York:20240922T160000
DTEND;TZID=America/New_York:20240922T160000
SUMMARY:Lisa Martin at Glendale Ridge
DESCRIPTION:Age Limit: All Ages\n\nDetails: Sunday funday! Wine and song...join us for that and a whole lot more! Music til 7pm
LOCATION:Glendale Ridge - 155 Glendale Road, Southampton, MA, 01073, US
END:VEVENT

END:VCALENDAR
