BEGIN:VCALENDAR
VERSION:2.0
BEGIN:VEVENT
CLASS:PUBLIC
CATEGORIES:MEETING
DTSTART;TZID=America/New_York:20240818T160000
DTEND;TZID=America/New_York:20240818T160000
SUMMARY:Lisa Martin at Glendale Ridge
DESCRIPTION:Age Limit: All Ages\n\nDetails: Best way to spend a Sunday afternoon! Fine wines, great views and live music! Bring your own picnic. Food truck also on site. Join us! Music til 7pm
LOCATION:Glendale Ridge - 155 Glendale Road, Southampton, MA, 01073, US
END:VEVENT

END:VCALENDAR
