BEGIN:VCALENDAR
VERSION:2.0
BEGIN:VEVENT
CLASS:PUBLIC
CATEGORIES:MEETING
DTSTART;TZID=America/New_York:20240719T170000
DTEND;TZID=America/New_York:20240719T170000
SUMMARY:Lisa Martin at Glendale Ridge
DESCRIPTION:Price: $45\nClick here to buy tickets: https://www.glendaleridgevineyard.com/\nAge Limit: All Ages\n\nDetails: SPECIAL  EVENT! My trio will open for the Beatles tribute band &quot;BRITISH MANIA&quot;. We will open the show and play for about an hour and then BRITISH MANIA takes the stage. This is a ticketed event. Details below:\n\nBritishmania Beatles Tribute Band\nJuly 19 @ 6:30 pm - 8:30 pm\nBritishmania Beatles Tribute invites you to take a memorable trip back to the 1960’s to experience the wonderful sound and stage persona of The Beatles!\n\n$45 presale or $50 at the door. Limited tickets available. We cannot guarantee tickets at the door.\n\nDoors open at 3pm. Britishmania at 6:30pm\n\nTickets are not refundable.\n\nGrounds will be closed to non-ticket holders. This event is rain or shine. \n\nWE SUGGEST BRINGING:\nBlanket or lawnchair chair, rain gear (if applicable. Please no tents), &amp; photo ID.\n\nNo outside alcohol. We will be inspecting coolers.
LOCATION:Glendale Ridge - 155 Glendale Road, Southampton, MA, 01073, US
END:VEVENT

END:VCALENDAR
