BEGIN:VCALENDAR
VERSION:2.0
BEGIN:VEVENT
CLASS:PUBLIC
CATEGORIES:MEETING
DTSTART;TZID=America/New_York:20240623T160000
DTEND;TZID=America/New_York:20240623T160000
SUMMARY:Lisa Martin at Glendale Ridge
DESCRIPTION:Age Limit: All Ages\n\nDetails: One of my favorite places to play! Great wines, amazing views and the best staff ever! Bring your own picnic and chairs/blanket. Some chairs and tables available on a first come first served basis. Food truck also available on site. Music til 7pm 
LOCATION:Glendale Ridge - 155 Glendale Road, Southampton, MA, 01073, US
END:VEVENT

END:VCALENDAR
