BEGIN:VCALENDAR
VERSION:2.0
BEGIN:VEVENT
CLASS:PUBLIC
CATEGORIES:MEETING
DTSTART;TZID=America/New_York:20240621T180000
DTEND;TZID=America/New_York:20240621T180000
SUMMARY:Lisa Martin at Munich Haus
DESCRIPTION:Age Limit: All Ages\n\nDetails: Full band show!! Great outdoor beer garden. Always a fun time. Join us! Music til 10pm
LOCATION:Munich Haus - 355 Center Street, Chicopee, MA, 01013, US
END:VEVENT

END:VCALENDAR
