BEGIN:VCALENDAR
VERSION:2.0
BEGIN:VEVENT
CLASS:PUBLIC
CATEGORIES:MEETING
DTSTART;TZID=America/New_York:20240614T180000
DTEND;TZID=America/New_York:20240614T180000
SUMMARY:Lisa Martin at Union Station
DESCRIPTION:Age Limit: All Ages\n\nDetails: Full band show at the Union Station Deck Bar! Great location, food and drink. Join us for an evening of fun! Music til 9pm
LOCATION:Union Station - Northampton, MA, US
END:VEVENT

END:VCALENDAR
