BEGIN:VCALENDAR
VERSION:2.0
BEGIN:VEVENT
CLASS:PUBLIC
CATEGORIES:MEETING
DTSTART;TZID=America/New_York:20240413T190000
DTEND;TZID=America/New_York:20240413T190000
SUMMARY:Lisa Martin at Stanley Whitman House Museum
DESCRIPTION:Price: $20\nAge Limit: All Ages\n\nDetails: Acoustic trio featuring original songs and the stories that go along with them. This is a LOVELY, intimate venue! This show will be indoors. Tickets in advance or at the door if space allows. Details below:\nPlease join us for a late afternoon/early evening of storytelling, music and song in our Museum’s tavern or dooryard garden. Please purchase your tickets online in advance, follow COVID regulations when indoors, and bring a picnic of your favorite food and drink when outdoors. We’ll provide chairs if needed but you’re also welcome to bring your own or a blanket. We also ask that you carry out any items that you bring in.\n\nWhether in the Tavern or the Garden, Stanley-Whitman House&#39;s Music Series is more up-close and personal than other shows. All of the artifice is stripped away. No stage, no dressing rooms, no barrier between the performer and the audience. It brings the audience one step closer to the way music was intended -- an artist traveling from town to town, telling stories and making friends. Come check this out!
LOCATION:Stanley Whitman House Museum - 37 High Street, Farmington, CT, 06032, US
END:VEVENT

END:VCALENDAR
