BEGIN:VCALENDAR
VERSION:2.0
BEGIN:VEVENT
CLASS:PUBLIC
CATEGORIES:MEETING
DTSTART;TZID=America/Los_Angeles:20240512T140000
DTEND;TZID=America/Los_Angeles:20240512T140000
SUMMARY:Silver Lining at Sea salt beachside burger
DESCRIPTION:Price: Free\nAge Limit: All Ages\n\nDetails: Celebrate Mothers Day with mom and Silver Lining at Sea Salt. 
LOCATION:Sea salt beachside burger - 17851 Pacific Coast Highway, Huntington Beach, CA, 92649, US
END:VEVENT

END:VCALENDAR
