BEGIN:VCALENDAR
VERSION:2.0
BEGIN:VEVENT
CLASS:PUBLIC
CATEGORIES:MEETING
DTSTART;TZID=America/New_York:20240121T160000
DTEND;TZID=America/New_York:20240121T160000
SUMMARY:Lisa Martin at City Sports Grille at Spare Time
DESCRIPTION:Age Limit: All Ages\n\nDetails: Lisa Martin Band is the feature this week at the Wildcat O&#39;Halloran Blues Jam. Come listen. Come play! Bring your instrument or your dancing shoes. A very musical fun filled afternoon. Feature set approx 4:30pm. Jammers to follow. 
LOCATION:City Sports Grille at Spare Time - 525 Pleasant Street, Northampton, MA, 01060, US
END:VEVENT

END:VCALENDAR
