BEGIN:VCALENDAR
VERSION:2.0
BEGIN:VEVENT
CLASS:PUBLIC
CATEGORIES:MEETING
DTSTART;TZID=America/New_York:20240120T180000
DTEND;TZID=America/New_York:20240120T180000
SUMMARY:Lisa Martin at Delaney House
DESCRIPTION:Age Limit: All Ages\n\nDetails: Trio show with Carl Hopkins on lead guitar and Jeff Bolow on bass. Great food and fun. Reservations recommended. 
LOCATION:Delaney House - 3 Country Club Rd, Holyoke, MA, 01040, US
END:VEVENT

END:VCALENDAR
