BEGIN:VCALENDAR
VERSION:2.0
BEGIN:VEVENT
CLASS:PUBLIC
CATEGORIES:MEETING
DTSTART;TZID=America/Chicago:20240810T170000
DTEND;TZID=America/Chicago:20240810T170000
SUMMARY:Michael Charles at Lee'z Place Bar & Grill
DESCRIPTION:Age Limit: All Ages\n\nDetails: The 40th Anniversary Tour concert by Chicago Blues Hall of Fame, Australian born muso Michael Charles and His Band as they take you through forty years and forty releases of music. The three hour non-stop concert overflows with precise, energetic, intense, original, and guitar driven contemporary blues, blues-based rock, and soulful the ballads of Michael Charles.
LOCATION:Lee'z Place Bar & Grill - 2738 North 48th Road, Sandwich, IL, 60548, US
END:VEVENT

END:VCALENDAR
