BEGIN:VCALENDAR
VERSION:2.0
BEGIN:VEVENT
CLASS:PUBLIC
CATEGORIES:MEETING
DTSTART;TZID=America/Los_Angeles:20240308T200000
DTEND;TZID=America/Los_Angeles:20240308T200000
SUMMARY:Silver Lining at King Neptunes
DESCRIPTION:Age Limit: 18+ or w/ adult\n\nDetails: Silver Lining performing from 8-11
LOCATION:King Neptunes - 17115 Pacific Ave, Sunset Beach, CA, 90742, US
END:VEVENT

END:VCALENDAR
