BEGIN:VCALENDAR
VERSION:2.0
BEGIN:VEVENT
CLASS:PUBLIC
CATEGORIES:MEETING
DTSTART;TZID=America/Chicago:20240928T150000
DTEND;TZID=America/Chicago:20240928T150000
SUMMARY:Michael Charles at Dining on the Green
DESCRIPTION:Age Limit: All Ages\n\nDetails: Join us for the concert by Chicago Blues Hall of Fame, Australian born muso Michael Charles and His Band as they take you through forty years and forty releases of music. The concert overflows with precise, energetic, intense, original, and guitar driven contemporary blues, blues-based rock, and soulful the ballads of Michael Charles.
LOCATION:Dining on the Green - 349 Main Street, Park Forest, IL, 60466, US
END:VEVENT

END:VCALENDAR
