BEGIN:VCALENDAR
VERSION:2.0
BEGIN:VEVENT
CLASS:PUBLIC
CATEGORIES:MEETING
DTSTART;TZID=America/Chicago:20240711T183000
DTEND;TZID=America/Chicago:20240711T183000
SUMMARY:Michael Charles at The Depot Restaurant & Lounge
DESCRIPTION:Age Limit: All Ages\n\nDetails: Join us for the concert by Chicago Blues Hall of Fame, Australian born muso Michael Charles and His Band as they take you through forty years and forty releases of music. The three hour non-stop concert overflows with precise, energetic, intense, original, and guitar driven contemporary blues, blues-based rock, and soulful ballads of Michael Charles.
LOCATION:The Depot Restaurant & Lounge - N Railroad St, Shenandoah, IA, 51601-1158, US
END:VEVENT

END:VCALENDAR
