BEGIN:VCALENDAR
VERSION:2.0
BEGIN:VEVENT
CLASS:PUBLIC
CATEGORIES:MEETING
DTSTART;TZID=America/Chicago:20240419T190000
DTEND;TZID=America/Chicago:20240419T190000
SUMMARY:Soul Punch at THE ALLEY
DESCRIPTION:Age Limit: All Ages\n\nDetails: Fun Cover Show! 
LOCATION:THE ALLEY - 14 West Main Street, Washington, MO, 63090, US
END:VEVENT

END:VCALENDAR
