BEGIN:VCALENDAR
VERSION:2.0
BEGIN:VEVENT
CLASS:PUBLIC
CATEGORIES:MEETING
DTSTART;TZID=America/Chicago:20231210T140000
DTEND;TZID=America/Chicago:20231210T140000
SUMMARY:Soul Punch at Triple 3 Vineyards
DESCRIPTION:Age Limit: All Ages\n\nDetails: Fun Cover Show 2-5PM!
LOCATION:Triple 3 Vineyards - 3665 Sunny Road, Washington, MO, 63090, US
END:VEVENT

END:VCALENDAR
