BEGIN:VCALENDAR
VERSION:2.0
BEGIN:VEVENT
CLASS:PUBLIC
CATEGORIES:MEETING
DTSTART;TZID=America/Los_Angeles:20231009T190000
DTEND;TZID=America/Los_Angeles:20231009T190000
SUMMARY:San Francisco Medicine Ball Band at Plymouth Church of Jazz & Justice
DESCRIPTION:Age Limit: All Ages\n\nDetails: Join us for an incredible evening in the Fireside Room for Monday Night Jazz September 25th featuring Nancy Wright &amp; The Rhythm &amp; Roots Band with Nancy on sax and vocals; Jules Leyhe- guitar; Ian McArdle- keyboards and Kevin Hayes- drums.
LOCATION:Plymouth Church of Jazz & Justice - 424 Monte Vista Avenue, Oakland, CA, 94611, US
END:VEVENT

END:VCALENDAR
