BEGIN:VCALENDAR
VERSION:2.0
BEGIN:VEVENT
CLASS:PUBLIC
CATEGORIES:MEETING
DTSTART;TZID=America/Vancouver:20231124T190000
DTEND;TZID=America/Vancouver:20231124T190000
SUMMARY:Sillken at Pyatt Hall
DESCRIPTION:Age Limit: All Ages\n\nDetails: Classical Guitar Student Recital
LOCATION:Pyatt Hall - 843 Seymour Street, Vancouver, BC, V6B, CA
END:VEVENT

END:VCALENDAR
