BEGIN:VCALENDAR
VERSION:2.0
BEGIN:VEVENT
CLASS:PUBLIC
CATEGORIES:MEETING
DTSTART;TZID=America/Chicago:20241025T190000
DTEND;TZID=America/Chicago:20241025T190000
SUMMARY:Michael Charles at The Heyde Center for the Arts
DESCRIPTION:Click here to buy tickets: https://www.eventbrite.com/e/michael-charles-blues-band-radio-show-and-concert-tickets-964663834497\nAge Limit: All Ages\n\nDetails: Join us for the concert by guitar driven, Australian born muso Michael Charles and His Band as they take you through forty years and forty releases of original music. You will be astounded with the level of precision, energy, and intensity of the contemporary blues, rock, and the soulful ballads of Michael Charles.
LOCATION:The Heyde Center for the Arts - S High St, Chippewa Falls, WI, 54729-2506, US
END:VEVENT

END:VCALENDAR
