BEGIN:VCALENDAR
VERSION:2.0
BEGIN:VEVENT
CLASS:PUBLIC
CATEGORIES:MEETING
DTSTART;TZID=America/Chicago:20240801T190000
DTEND;TZID=America/Chicago:20240801T190000
SUMMARY:Michael Charles at Thursday Night Live Concert Series
DESCRIPTION:Age Limit: All Ages\n\nDetails: Join us for the concert by guitar driven, Australian born muso Michael Charles and His Band as they take you through forty years and forty releases of original music. You will be astounded with the level of precision, energy, and intensity of the contemporary blues, rock, and the soulful ballads of Michael Charles.
LOCATION:Thursday Night Live Concert Series - 914 Main Street, Highland, IL, 62249, US
END:VEVENT

END:VCALENDAR
