BEGIN:VCALENDAR
VERSION:2.0
BEGIN:VEVENT
CLASS:PUBLIC
CATEGORIES:MEETING
DTSTART;TZID=America/Los_Angeles:20231111T190000
DTEND;TZID=America/Los_Angeles:20231111T190000
SUMMARY:Roy Zimmerman at Lower Lake Schoolhouse Museum
DESCRIPTION:Price: $25 / $22 KPFZ members\nAge Limit: All Ages\n\nDetails: a benefit for KPFZ Radio\ntickets available at Catfish Coffeeshop in Clearlake and Watershed Books in Lakeport or at 707-263-3640\n\nwith Herb Gura
LOCATION:Lower Lake Schoolhouse Museum - 16435 Main St, Lower Lake, CA, 95457, US
END:VEVENT

END:VCALENDAR
