BEGIN:VCALENDAR
VERSION:2.0
BEGIN:VEVENT
CLASS:PUBLIC
CATEGORIES:MEETING
DTSTART;TZID=America/Los_Angeles:20231007T200000
DTEND;TZID=America/Los_Angeles:20231007T200000
SUMMARY:Silver Lining at On the Rocks Bar and Grill
DESCRIPTION:Age Limit: All Ages\n\nDetails: New venue for Silver Lining!\nCome on out and support them.
LOCATION:On the Rocks Bar and Grill - 5755 Pacific Coast Highway, Long Beach, CA, 90803, US
END:VEVENT

END:VCALENDAR
