BEGIN:VCALENDAR
VERSION:2.0
BEGIN:VEVENT
CLASS:PUBLIC
CATEGORIES:MEETING
DTSTART;TZID=America/New_York:20230909T200000
DTEND;TZID=America/New_York:20230909T200000
SUMMARY:Scotty and the Reverbs at The Shack Shack
DESCRIPTION:Age Limit: All Ages
LOCATION:The Shack Shack - 501 N Duke St, Durham, NC, 27701, US
END:VEVENT

END:VCALENDAR
