BEGIN:VCALENDAR
VERSION:2.0
BEGIN:VEVENT
CLASS:PUBLIC
CATEGORIES:MEETING
DTSTART;TZID=America/Los_Angeles:20230922T173000
DTEND;TZID=America/Los_Angeles:20230922T173000
SUMMARY:Silver Lining at City of Westminster Fall Festival 
DESCRIPTION:Price: free\nAge Limit: All Ages\n\nDetails: This is Westminster&#39;s 2nd Annual Fall Festival. \nJoin Silver Lining from 5:30-7:00pm
LOCATION:City of Westminster Fall Festival  - 8200 Westminster Bl., Westminster, CA, 92683, US
END:VEVENT

END:VCALENDAR
