BEGIN:VCALENDAR
VERSION:2.0
BEGIN:VEVENT
CLASS:PUBLIC
CATEGORIES:MEETING
DTSTART;TZID=America/Los_Angeles:20231027T200000
DTEND;TZID=America/Los_Angeles:20231027T200000
SUMMARY:Silver Lining at Rock & Roll Pizza - Simi VAlley
DESCRIPTION:Age Limit: All Ages\n\nDetails: Live music with Silver Lining 
LOCATION:Rock & Roll Pizza - Simi VAlley - 5255 Cochran Street, Simi Valley, CA, 93063, US
END:VEVENT

END:VCALENDAR
