BEGIN:VCALENDAR
VERSION:2.0
BEGIN:VEVENT
CLASS:PUBLIC
CATEGORIES:MEETING
DTSTART;TZID=America/New_York:20230809T190000
DTEND;TZID=America/New_York:20230809T190000
SUMMARY:Bob Niederriter at Founder's Pub
DESCRIPTION:Age Limit: All Ages\n\nDetails: Trio Performance from 7 pm - 8:30 pm .
LOCATION:Founder's Pub - 724 Woodlawn Ave, Springfield, OH, 45501, US
END:VEVENT

END:VCALENDAR
